BEGIN:VCALENDAR
VERSION:2.0
PRODID:SchoolNow
CALSCALE:GREGORIAN
BEGIN:VEVENT
UID:02521fd8-3066-11e9-b114-0a0d99089f00
DTSTAMP:20190214T143845Z
SUMMARY:Winter Vacation
DESCRIPTION:No School - February 18-22
URL;VALUE=URI:https://www.stonehamschools.org/schools/central-middle-school
 /calendar/1944783/winter-vacation
DTSTART:20190218T143500Z
DTEND:20190218T153500Z
END:VEVENT
END:VCALENDAR
