BEGIN:VCALENDAR
VERSION:2.0
PRODID:SchoolNow
CALSCALE:GREGORIAN
BEGIN:VEVENT
UID:e1e9136c-5ad3-11e9-98d3-122ce5fc13ca
DTSTAMP:20190409T142928Z
SUMMARY:Spring Musical
DESCRIPTION:"Bye Bye Birdie"
LOCATION:SHS Auditorium
URL;VALUE=URI:https://www.stonehamschools.org/schools/central-middle-school
 /calendar/1966326/spring-musical
DTSTART:20190426T230000Z
DTEND:20190427T145700Z
END:VEVENT
END:VCALENDAR
