BEGIN:VCALENDAR
VERSION:2.0
PRODID:SchoolNow
CALSCALE:GREGORIAN
BEGIN:VEVENT
UID:ebe68df2-b787-11e9-a5c4-0a0543946f50
DTSTAMP:20190805T135001Z
SUMMARY:School Opens
URL;VALUE=URI:https://www.stonehamschools.org/schools/central-middle-school
 /calendar/2048456/school-opens
DTSTART:20190828T121500Z
DTEND:20190828T144700Z
END:VEVENT
END:VCALENDAR
