BEGIN:VCALENDAR
VERSION:2.0
PRODID:SchoolNow
CALSCALE:GREGORIAN
BEGIN:VEVENT
UID:3bfa52a6-b788-11e9-abf1-0af5b3f1d720
DTSTAMP:20190805T135216Z
SUMMARY:Labor Day Weekend
URL;VALUE=URI:https://www.stonehamschools.org/schools/central-middle-school
 /calendar/2048463/labor-day-weekend
DTSTART:20190830T121500Z
DTEND:20190830T145000Z
END:VEVENT
END:VCALENDAR
