BEGIN:VCALENDAR
VERSION:2.0
PRODID:SchoolNow
CALSCALE:GREGORIAN
BEGIN:VEVENT
UID:fc75267a-e9d1-11e9-8da8-12f3f7c10612
DTSTAMP:20191008T134610Z
SUMMARY:Columbus Day - No School
URL;VALUE=URI:https://www.stonehamschools.org/schools/central-middle-school
 /calendar/2117126/columbus-day-no-school
DTSTART:20191014T134400Z
DTEND:20191014T144400Z
END:VEVENT
END:VCALENDAR
