BEGIN:VCALENDAR
VERSION:2.0
PRODID:SchoolNow
CALSCALE:GREGORIAN
BEGIN:VEVENT
UID:53690d16-e9d2-11e9-81ce-12f3f7c10612
DTSTAMP:20191008T134836Z
SUMMARY:Grade 8 Open House
URL;VALUE=URI:https://www.stonehamschools.org/schools/central-middle-school
 /calendar/2117128/grade-8-open-house
DTSTART:20191015T220000Z
DTEND:20191015T230000Z
END:VEVENT
END:VCALENDAR
