BEGIN:VCALENDAR
VERSION:2.0
PRODID:SchoolNow
CALSCALE:GREGORIAN
BEGIN:VEVENT
UID:ab644bce-e9e2-11e9-8725-12e7f039c8ae
DTSTAMP:20191008T154535Z
SUMMARY:Early Release Day ~ 11:45am
URL;VALUE=URI:https://www.stonehamschools.org/schools/central-middle-school
 /calendar/2117155/early-release-day-11-45am
DTSTART:20191011T154400Z
DTEND:20191011T164400Z
END:VEVENT
END:VCALENDAR
