BEGIN:VCALENDAR
VERSION:2.0
PRODID:SchoolNow
CALSCALE:GREGORIAN
BEGIN:VEVENT
UID:a7477158-e9ea-11e9-ab34-12d45e688dfe
DTSTAMP:20191008T164244Z
SUMMARY:Early Release Day ~ 11:45am
URL;VALUE=URI:https://www.stonehamschools.org/schools/central-middle-school
 /calendar/2117170/early-release-day-11-45am
DTSTART:20191031T164200Z
DTEND:20191031T174200Z
END:VEVENT
END:VCALENDAR
