BEGIN:VCALENDAR
VERSION:2.0
PRODID:SchoolNow
CALSCALE:GREGORIAN
BEGIN:VEVENT
UID:f0c2014a-e9ea-11e9-8860-12d45e688dfe
DTSTAMP:20191008T164520Z
SUMMARY:School Committee meeting
URL;VALUE=URI:https://www.stonehamschools.org/schools/central-middle-school
 /calendar/2117171/school-committee-meeting
DTSTART:20191010T040000Z
DTEND:20191011T035900Z
END:VEVENT
END:VCALENDAR
