BEGIN:VCALENDAR
VERSION:2.0
PRODID:SchoolNow
CALSCALE:GREGORIAN
BEGIN:VEVENT
UID:695de3e8-ef5f-11e9-af68-0a2c2c51c3e8
DTSTAMP:20191018T155239Z
SUMMARY:Veterans Day - No School
URL;VALUE=URI:https://www.stonehamschools.org/schools/central-middle-school
 /calendar/2121033/columbus-day-no-school
DTSTART:20191111T130000Z
DTEND:20191111T171800Z
END:VEVENT
END:VCALENDAR
