BEGIN:VCALENDAR
VERSION:2.0
PRODID:SchoolNow
CALSCALE:GREGORIAN
BEGIN:VEVENT
UID:351225e8-fbd7-11e9-8af1-12bf35a966b4
DTSTAMP:20191031T120853Z
SUMMARY:EarthView for grade 6
URL;VALUE=URI:https://www.stonehamschools.org/schools/central-middle-school
 /calendar/2136789/earthview-for-grade-6
DTSTART;VALUE=DATE:20191108
DTEND;VALUE=DATE:20191109
END:VEVENT
END:VCALENDAR
