BEGIN:VCALENDAR
VERSION:2.0
PRODID:SchoolNow
CALSCALE:GREGORIAN
BEGIN:VEVENT
UID:49fb5cb8-fbd7-11e9-a769-12bf35a966b4
DTSTAMP:20191031T120928Z
SUMMARY:End of Quarter 1
URL;VALUE=URI:https://www.stonehamschools.org/schools/central-middle-school
 /calendar/2136790/end-of-quarter-1
DTSTART;VALUE=DATE:20191101
DTEND;VALUE=DATE:20191102
END:VEVENT
END:VCALENDAR
