BEGIN:VCALENDAR
VERSION:2.0
PRODID:SchoolNow
CALSCALE:GREGORIAN
BEGIN:VEVENT
UID:7b91ac5a-fbd7-11e9-acce-12bf35a966b4
DTSTAMP:20191031T121143Z
SUMMARY:Grade 5 & 6 Bullying Assembly\, Grade 7 & 8 Vaping Assembly
URL;VALUE=URI:https://www.stonehamschools.org/schools/central-middle-school
 /calendar/2136791/grade-5-6-bullying-assembly-grade-7-8-vaping-assembly
DTSTART;VALUE=DATE:20191125
DTEND;VALUE=DATE:20191126
END:VEVENT
END:VCALENDAR
