BEGIN:VCALENDAR
VERSION:2.0
PRODID:SchoolNow
CALSCALE:GREGORIAN
BEGIN:VEVENT
UID:92a2f386-fbd7-11e9-9a1e-12bf35a966b4
DTSTAMP:20191031T121130Z
SUMMARY:Early Release ~ 11:45am
URL;VALUE=URI:https://www.stonehamschools.org/schools/central-middle-school
 /calendar/2136792/early-release-11-45am
DTSTART;VALUE=DATE:20191127
DTEND;VALUE=DATE:20191128
END:VEVENT
END:VCALENDAR
