BEGIN:VCALENDAR
VERSION:2.0
PRODID:SchoolNow
CALSCALE:GREGORIAN
BEGIN:VEVENT
UID:ae768d02-fbd7-11e9-b1d6-12bf35a966b4
DTSTAMP:20191031T121217Z
SUMMARY:Thanksgiving ~ No School
URL;VALUE=URI:https://www.stonehamschools.org/schools/central-middle-school
 /calendar/2136793/thanksgiving-no-school
DTSTART;VALUE=DATE:20191128
DTEND;VALUE=DATE:20191129
END:VEVENT
END:VCALENDAR
