BEGIN:VCALENDAR
VERSION:2.0
PRODID:SchoolNow
CALSCALE:GREGORIAN
BEGIN:VEVENT
UID:b7876556-fbd7-11e9-a7f0-12bf35a966b4
DTSTAMP:20191031T121232Z
SUMMARY:No School
URL;VALUE=URI:https://www.stonehamschools.org/schools/central-middle-school
 /calendar/2136794/no-school
DTSTART;VALUE=DATE:20191129
DTEND;VALUE=DATE:20191130
END:VEVENT
END:VCALENDAR
