BEGIN:VCALENDAR
VERSION:2.0
PRODID:SchoolNow
CALSCALE:GREGORIAN
BEGIN:VEVENT
UID:507c9abe-1510-11ea-baea-1207c0620077
DTSTAMP:20191202T143040Z
SUMMARY:Parent Teacher Conf.
URL;VALUE=URI:https://www.stonehamschools.org/schools/central-middle-school
 /calendar/2153148/parent-teacher-conf
DTSTART;VALUE=DATE:20191211
DTEND;VALUE=DATE:20191212
END:VEVENT
END:VCALENDAR
