BEGIN:VCALENDAR
VERSION:2.0
PRODID:SchoolNow
CALSCALE:GREGORIAN
BEGIN:VEVENT
UID:7b4f234c-1510-11ea-8296-1207c0620077
DTSTAMP:20191202T143152Z
SUMMARY:Parent Teacher Conf.
URL;VALUE=URI:https://www.stonehamschools.org/schools/central-middle-school
 /calendar/2153149/parent-teacher-conf
DTSTART;VALUE=DATE:20191212
DTEND;VALUE=DATE:20191213
END:VEVENT
END:VCALENDAR
