BEGIN:VCALENDAR
VERSION:2.0
PRODID:SchoolNow
CALSCALE:GREGORIAN
BEGIN:VEVENT
UID:a2fb0ff0-1510-11ea-8f72-1207c0620077
DTSTAMP:20191202T143258Z
SUMMARY:No School
URL;VALUE=URI:https://www.stonehamschools.org/schools/central-middle-school
 /calendar/2153150/no-school
DTSTART;VALUE=DATE:20191223
DTEND;VALUE=DATE:20200104
END:VEVENT
END:VCALENDAR
