BEGIN:VCALENDAR
VERSION:2.0
PRODID:SchoolNow
CALSCALE:GREGORIAN
BEGIN:VEVENT
UID:b442721c-1510-11ea-b436-1207c0620077
DTSTAMP:20191202T143327Z
SUMMARY:Back to School
URL;VALUE=URI:https://www.stonehamschools.org/schools/central-middle-school
 /calendar/2153151/back-to-school
DTSTART;VALUE=DATE:20200106
DTEND;VALUE=DATE:20200107
END:VEVENT
END:VCALENDAR
