BEGIN:VCALENDAR
VERSION:2.0
PRODID:SchoolNow
CALSCALE:GREGORIAN
BEGIN:VEVENT
UID:04899cec-232a-11ea-96de-126c87a9ff19
DTSTAMP:20191220T130955Z
SUMMARY:Chorus Concert
URL;VALUE=URI:https://www.stonehamschools.org/schools/central-middle-school
 /calendar/2164226/chorus-concert
DTSTART:20200115T000000Z
DTEND:20200115T020000Z
END:VEVENT
END:VCALENDAR
