BEGIN:VCALENDAR
VERSION:2.0
PRODID:SchoolNow
CALSCALE:GREGORIAN
BEGIN:VEVENT
UID:2450893c-232a-11ea-b43e-126c87a9ff19
DTSTAMP:20191220T131049Z
SUMMARY:Band Concert
URL;VALUE=URI:https://www.stonehamschools.org/schools/central-middle-school
 /calendar/2164227/band-concert
DTSTART:20200117T000000Z
DTEND:20200117T020000Z
END:VEVENT
END:VCALENDAR
