BEGIN:VCALENDAR
VERSION:2.0
PRODID:SchoolNow
CALSCALE:GREGORIAN
BEGIN:VEVENT
UID:467b0dde-232a-11ea-9619-126c87a9ff19
DTSTAMP:20191220T131533Z
SUMMARY:Early release ~ 11:45am
URL;VALUE=URI:https://www.stonehamschools.org/schools/central-middle-school
 /calendar/2164228/early-release-11-45am
DTSTART;VALUE=DATE:20200117
DTEND;VALUE=DATE:20200118
END:VEVENT
END:VCALENDAR
