BEGIN:VCALENDAR
VERSION:2.0
PRODID:SchoolNow
CALSCALE:GREGORIAN
BEGIN:VEVENT
UID:5d10d98e-232a-11ea-81e7-126c87a9ff19
DTSTAMP:20191220T131224Z
SUMMARY:No School ~ Martin Luther King's Birthday
URL;VALUE=URI:https://www.stonehamschools.org/schools/central-middle-school
 /calendar/2164229/no-school-martin-luther-kings-birthday
DTSTART;VALUE=DATE:20200120
DTEND;VALUE=DATE:20200121
END:VEVENT
END:VCALENDAR
