BEGIN:VCALENDAR
VERSION:2.0
PRODID:SchoolNow
CALSCALE:GREGORIAN
BEGIN:VEVENT
UID:6cd00e4e-232a-11ea-a79b-126c87a9ff19
DTSTAMP:20191220T131250Z
SUMMARY:End of Quarter 2
URL;VALUE=URI:https://www.stonehamschools.org/schools/central-middle-school
 /calendar/2164230/end-of-quarter-2
DTSTART:20200124T131200Z
DTEND:20200124T141200Z
END:VEVENT
END:VCALENDAR
