BEGIN:VCALENDAR
VERSION:2.0
PRODID:SchoolNow
CALSCALE:GREGORIAN
BEGIN:VEVENT
UID:855c786c-232a-11ea-aebf-126c87a9ff19
DTSTAMP:20191220T131359Z
SUMMARY:Book Fair
URL;VALUE=URI:https://www.stonehamschools.org/schools/central-middle-school
 /calendar/2164231/book-fair
DTSTART;VALUE=DATE:20200128
DTEND;VALUE=DATE:20200201
END:VEVENT
END:VCALENDAR
