BEGIN:VCALENDAR
VERSION:2.0
PRODID:SchoolNow
CALSCALE:GREGORIAN
BEGIN:VEVENT
UID:ab80e0c8-232a-11ea-806a-126c87a9ff19
DTSTAMP:20191220T131436Z
SUMMARY:Start of Quarter 3
URL;VALUE=URI:https://www.stonehamschools.org/schools/central-middle-school
 /calendar/2164232/start-of-quarter-3
DTSTART;VALUE=DATE:20200127
DTEND;VALUE=DATE:20200128
END:VEVENT
END:VCALENDAR
