BEGIN:VCALENDAR
VERSION:2.0
PRODID:SchoolNow
CALSCALE:GREGORIAN
BEGIN:VEVENT
UID:bcf288de-232a-11ea-a084-126c87a9ff19
DTSTAMP:20191220T131505Z
SUMMARY:Report Cards Distributed in School
URL;VALUE=URI:https://www.stonehamschools.org/schools/central-middle-school
 /calendar/2164233/report-cards-distributed-in-school
DTSTART;VALUE=DATE:20200131
DTEND;VALUE=DATE:20200201
END:VEVENT
END:VCALENDAR
