BEGIN:VCALENDAR
VERSION:2.0
PRODID:SchoolNow
CALSCALE:GREGORIAN
BEGIN:VEVENT
UID:2d617154-475a-11ea-9660-1249cc3bffd3
DTSTAMP:20200204T142522Z
SUMMARY:Teacher vs. Student Hockey Game
URL;VALUE=URI:https://www.stonehamschools.org/schools/central-middle-school
 /calendar/2195584/teacher-vs-student-hockey-game
DTSTART:20200213T210000Z
DTEND:20200213T230000Z
END:VEVENT
END:VCALENDAR
