BEGIN:VCALENDAR
VERSION:2.0
PRODID:SchoolNow
CALSCALE:GREGORIAN
BEGIN:VEVENT
UID:4aa7dad2-475a-11ea-97c0-1249cc3bffd3
DTSTAMP:20200204T142611Z
SUMMARY:Early Release
URL;VALUE=URI:https://www.stonehamschools.org/schools/central-middle-school
 /calendar/2195585/early-release
DTSTART:20200214T164500Z
DTEND:20200214T172500Z
END:VEVENT
END:VCALENDAR
