BEGIN:VCALENDAR
VERSION:2.0
PRODID:SchoolNow
CALSCALE:GREGORIAN
BEGIN:VEVENT
UID:6403a5f6-475a-11ea-9276-1249cc3bffd3
DTSTAMP:20200204T142653Z
SUMMARY:February Vacation
URL;VALUE=URI:https://www.stonehamschools.org/schools/central-middle-school
 /calendar/2195587/february-vacation
DTSTART:20200217T130000Z
DTEND:20200221T193500Z
END:VEVENT
END:VCALENDAR
